BEGIN:VCALENDAR
VERSION:2.0
PRODID:icalendar-ruby
CALSCALE:GREGORIAN
METHOD:PUBLISH
BEGIN:VEVENT
DTSTAMP:20260423T113201Z
UID:5-1609367@firstchurchbristol.org
DTSTART:20261101T190000Z
DTEND:20261101T200000Z
CLASS:PUBLIC
CREATED:20260422T202447
DESCRIPTION:Sunday Worship
LAST-MODIFIED:20260422T202447
LOCATION:
SUMMARY:Sunday Worship
URL;VALUE=URI:https://firstchurchbristol.org/events/sunday-worship/2026-11-
 01
END:VEVENT
END:VCALENDAR
